Workbook
Name Maxamount: Калькулятор!$F$15
Name Макс_срок: Продукти!$M$11
Name Мін_срок: Продукти!$L$11
Name Список_продуктов: Продукти!$B$2:$B$10
Name Срок_кредиту: Калькулятор!$F$9

Sheet Калькулятор
F1: УМОВИ КРЕДИТУВАННЯ ВІД "OTP BANK"
L3: Параметри продукту
C5: Розрахунок кредиту | H5: =IF(TODAY()>DATE(YEAR(TODAY()),MONTH(TODAY()),DAY(TODAY())),DATE(YEAR(TODAY()),MONTH(TODAY()),DAY(10)),TODAY()) -> 46311 | L5: Назва продукту | M5: Сума кредиту, грн | N5: Термін кредиту, міс. | O5: Термін пільгового періоду | P5: Річна ставка після пільгового періоду % | Q5: Річна ставка в пільговий період, % | R5: Одноразова комісія за видачу кредиту (включена в щомісячний платіж), % | S5: Щомісячна комісія, %
C7: Продукт | F7: Beauty 3M | L7: =Продукти!B2 -> Beauty | M7: =Продукти!K2 -> 20000 - 300000 | N7: =Продукти!N2&" міс." -> 12 - 60 міс. | O7: =Продукти!C2&" міс." -> 0 міс. | P7: =Продукти!F2 -> 0.3499 | Q7: - | R7: =Продукти!H2 -> 0 | S7: відсутня
C8: Бажана сума, грн. | F8: 50000 | G8: ="Мін.бажана сума "&TEXT(ROUNDDOWN(Продукти!I11/(1+Продукти!H11),0),"# ##0")&" грн. "& "Макс.бажана сума "&TEXT(ROUNDDOWN(Продукти!J11/(1+Продукти!H11),0),"# ##0")&" грн." -> Мін.бажана сума 19 000 грн. Макс.бажана сума 285 008 грн. | L8: =Продукти!B3 -> Універсальний Beauty | M8: =Продукти!K3 -> 50000 - 1250000 | N8: =Продукти!N3&" міс." -> 12 - 60 міс. | O8: =Продукти!C3&" міс." -> 0 міс. | P8: =Продукти!F3 -> 0.1999 | Q8: - | R8: =Продукти!H3 -> 0.0099 | S8: відсутня
B9: =VLOOKUP(F7,Продукти!B:F,2,0) -> 3 | C9: Термін кредиту, міс | F9: 60 | G9: =Продукти!N11 -> 60 - 60 | L9: =Продукти!B4 -> Beauty 2M | M9: =Продукти!K4 -> 20000 - 300000 | N9: =Продукти!N4&" міс." -> 24 - 60 міс. | O9: =Продукти!C4&" міс." -> 2 міс. | P9: =Продукти!F4 -> 0.3499 | Q9: =Продукти!D4 -> 0 | R9: =Продукти!H4 -> 0.0299 | S9: відсутня
C10: Термін пільгового періоду, міс | F10: =Продукти!$C$11 -> 3 | L10: =Продукти!B5 -> Beauty 3M | M10: =Продукти!K5 -> 20000 - 300000 | N10: =Продукти!N5&" міс." -> 60 - 60 міс. | O10: =Продукти!C5&" міс." -> 3 міс. | P10: =Продукти!F5 -> 0.3499 | Q10: =Продукти!D5 -> 0 | R10: =Продукти!H5 -> 0.0526 | S10: відсутня
C11: Річна ставка в пільговий період, % | F11: =Продукти!$E$11 -> 0.0001 | L11: =Продукти!B6 -> Beauty 5M | M11: =Продукти!K6 -> 20000 - 300000 | N11: =Продукти!N6&" міс." -> 60 - 60 міс. | O11: =Продукти!C6&" міс." -> 5 міс. | P11: =Продукти!F6 -> 0.3499 | Q11: =Продукти!D6 -> 0 | R11: =Продукти!H6 -> 0.087 | S11: відсутня
C12: Річна ставка після пільгового періоду, % | F12: =Продукти!$F$11 -> 0.3499 | L12: =Продукти!B7 -> Beauty 6M | M12: =Продукти!K7 -> 20000 - 300000 | N12: =Продукти!N7&" міс." -> 60 - 60 міс. | O12: =Продукти!C7&" міс." -> 6 міс. | P12: =Продукти!F7 -> 0.3499 | Q12: =Продукти!D7 -> 0 | R12: =Продукти!H7 -> 0.1111 | S12: відсутня
C13: Щомісячна комісія, % | F13: =Продукти!$G$11 -> 0 | G13: =IFERROR(F15*F13,0) -> 0 | L13: =Продукти!B8 -> Beauty 9M | M13: =Продукти!K8 -> 20000 - 300000 | N13: =Продукти!N8&" міс." -> 60 - 60 міс. | O13: =Продукти!C8&" міс." -> 9 міс. | P13: =Продукти!F8 -> 0.3499 | Q13: =Продукти!D8 -> 0 | R13: =Продукти!H8 -> 0.1765 | S13: відсутня
C14: Одноразова комісія, % | F14: =Продукти!$H$11 -> 0.0526 | G14: =F8*F14 -> 2630 | L14: =Продукти!B9 -> Beauty 10M | M14: =Продукти!K9 -> 20000 - 300000 | N14: =Продукти!N9&" міс." -> 60 - 60 міс. | O14: =Продукти!C9&" міс." -> 10 міс. | P14: =Продукти!F9 -> 0.3499 | Q14: =Продукти!D9 -> 0 | R14: =Продукти!H9 -> 0.25 | S14: відсутня
C15: Сума кредиту, грн | F15: =IF((F8+G14)<Продукти!I11,"Збільшіть бажану суму кредиту", F8+G14) -> 52630 | G15: ="Мін.сума кредиту "&TEXT(Продукти!I11,"# ##0")&" грн. " & "Макс.сума кредиту "&TEXT(Продукти!J11,"# ##0")&" грн." -> Мін.сума кредиту 20 000 грн. Макс.сума кредиту 300 000 грн. | L15: =Продукти!B10 -> Beauty 12M | M15: =Продукти!K10 -> 20000 - 300000 | N15: =Продукти!N10&" міс." -> 60 - 60 міс. | O15: =Продукти!C10&" міс." -> 12 міс. | P15: =Продукти!F10 -> 0.3499 | Q15: =Продукти!D10 -> 0 | R15: =Продукти!H10 -> 0.3333 | S15: відсутня
C16: Щомісячний платіж | F16: =IF(ISNUMBER(Maxamount),E22,"") -> 1718.23
C17: Загальні витрати за кредитом | F17: =IF(ISNUMBER(Maxamount),G21+G14+G13*Срок_кредиту,"") -> 53089.202
C18: Загальна вартість кредиту | F18: =IF(ISNUMBER(Maxamount),F8+F17,"") -> 103089.2
C19: Реальна річна процентна ставка | F19: =IF(ISNUMBER(Maxamount),XIRR($E$21:OFFSET($E$21,Срок_кредиту,0),$D$21:OFFSET($D$21,Срок_кредиту,0)),"") -> 0.38750624
C20: № | D20: Дата платежу | E20: Щомісячний платіж | F20: Тіло кредиту | G20: Відсотки | H20: Залишок тіла кредиту | T20: =IF($B22<=$F$9,B22,"") -> 1
D21: =H5 -> 46311 | E21: =IFERROR( (-F15)+(F8*F14), "") -> -50000 | F21: =SUM(F22:F81) -> 52630 | G21: =SUM(G22:G81) -> 50459.202 | H21: =IF(ISNUMBER(Maxamount),Maxamount,"") -> 52630 | T21: =IF($B23<=$F$9,B23,"") -> 2 | U21: =IF(T21>$F$9,"",1/(1+J23/12)) -> 0.99999167 | V21: =IF($T21>$F$9,"",PRODUCT($U$21:$U21)) -> 0.99999167 | W21: =((1+J22*1/12)*Maxamount)/(SUM($V$21:OFFSET(V20,$F$9-1,0))+1) -> 1718.2216
A22: =IF(H21>0.3,1,0) -> 1 | B22: 1 | C22: =IF(ISNUMBER(Maxamount), IF($B22<=$F$9,B22,""),"") -> 1 | D22: =IF(E22<>"", IF($C22<=$F$9,DATE(YEAR(H5),MONTH(H5)+1,DAY(H5)),""), "") -> 46342 | E22: =IFERROR( IF($C22<=$F$9,IF((H21+G22)>(Калькулятор!$W$21),ROUNDUP((Калькулятор!$W$21)*A22,2),(H21+G22)),""), "") -> 1718.23 | F22: =IFERROR( IF($C22<=$F$9,E22-G22,""), "") -> 1717.7914 | G22: =IFERROR( IF($C22<=$F$9,H21*J22/365*30.416,""), "") -> 0.43857372 | H22: =IFERROR( IF($C22<=$F$9,H21+G22-E22,""), "") -> 50912.209 | J22: =IF(C22<=$B$9,$F$11,$F$12) -> 0.0001 | T22: =IF($B24<=$F$9,B24,"") -> 3 | U22: =IF(T22>$F$9,"",1/(1+J24/12)) -> 0.99999167 | V22: =IF($T22>$F$9,"",PRODUCT($U$21:$U22)) -> 0.99998333
A23: =IF(H22>0.3,1,0) -> 1 | B23: 2 | C23: =IF(ISNUMBER(Maxamount), IF($B23<=$F$9,B23,""),"") -> 2 | D23: =IF(E23<>"", IF($C23<=$F$9,DATE(YEAR(D22),MONTH(D22)+1,DAY(D22)),""), "") -> 46372 | E23: =IFERROR( IF($C23<=$F$9,IF((H22+G23)>(Калькулятор!$W$21),ROUNDUP((Калькулятор!$W$21)*A23,2),(H22+G23)),""), "") -> 1718.23 | F23: =IFERROR( IF($C23<=$F$9,E23-G23,""), "") -> 1717.8057 | G23: =IFERROR( IF($C23<=$F$9,H22*J23/365*30.416,""), "") -> 0.42425911 | H23: =IFERROR( IF($C23<=$F$9,H22+G23-E23,""), "") -> 49194.403 | J23: =IF(C23<=$B$9,$F$11,$F$12) -> 0.0001 | T23: =IF($B25<=$F$9,B25,"") -> 4 | U23: =IF(T23>$F$9,"",1/(1+J25/12)) -> 0.97166779 | V23: =IF($T23>$F$9,"",PRODUCT($U$21:$U23)) -> 0.97165159
A24: =IF(H23>0.3,1,0) -> 1 | B24: 3 | C24: =IF(ISNUMBER(Maxamount), IF($B24<=$F$9,B24,""),"") -> 3 | D24: =IF(E24<>"", IF($C24<=$F$9,DATE(YEAR(D23),MONTH(D23)+1,DAY(D23)),""), "") -> 46403 | E24: =IFERROR( IF($C24<=$F$9,IF((H23+G24)>(Калькулятор!$W$21),ROUNDUP((Калькулятор!$W$21)*A24,2),(H23+G24)),""), "") -> 1718.23 | F24: =IFERROR( IF($C24<=$F$9,E24-G24,""), "") -> 1717.8201 | G24: =IFERROR( IF($C24<=$F$9,H23*J24/365*30.416,""), "") -> 0.40994437 | H24: =IFERROR( IF($C24<=$F$9,H23+G24-E24,""), "") -> 47476.583 | J24: =IF(C24<=$B$9,$F$11,$F$12) -> 0.0001 | T24: =IF($B26<=$F$9,B26,"") -> 5 | U24: =IF(T24>$F$9,"",1/(1+J26/12)) -> 0.97166779 | V24: =IF($T24>$F$9,"",PRODUCT($U$21:$U24)) -> 0.94412255
A25: =IF(H24>0.3,1,0) -> 1 | B25: 4 | C25: =IF(ISNUMBER(Maxamount), IF($B25<=$F$9,B25,""),"") -> 4 | D25: =IF(E25<>"", IF($C25<=$F$9,DATE(YEAR(D24),MONTH(D24)+1,DAY(D24)),""), "") -> 46434 | E25: =IFERROR( IF($C25<=$F$9,IF((H24+G25)>(Калькулятор!$W$21),ROUNDUP((Калькулятор!$W$21)*A25,2),(H24+G25)),""), "") -> 1718.23 | F25: =IFERROR( IF($C25<=$F$9,E25-G25,""), "") -> 333.92232 | G25: =IFERROR( IF($C25<=$F$9,H24*J25/365*30.416,""), "") -> 1384.3077 | H25: =IFERROR( IF($C25<=$F$9,H24+G25-E25,""), "") -> 47142.66 | J25: =IF(C25<=$B$9,$F$11,$F$12) -> 0.3499 | T25: =IF($B27<=$F$9,B27,"") -> 6 | U25: =IF(T25>$F$9,"",1/(1+J27/12)) -> 0.97166779 | V25: =IF($T25>$F$9,"",PRODUCT($U$21:$U25)) -> 0.91737347
A26: =IF(H25>0.3,1,0) -> 1 | B26: 5 | C26: =IF(ISNUMBER(Maxamount), IF($B26<=$F$9,B26,""),"") -> 5 | D26: =IF(E26<>"", IF($C26<=$F$9,DATE(YEAR(D25),MONTH(D25)+1,DAY(D25)),""), "") -> 46462 | E26: =IFERROR( IF($C26<=$F$9,IF((H25+G26)>(Калькулятор!$W$21),ROUNDUP((Калькулятор!$W$21)*A26,2),(H25+G26)),""), "") -> 1718.23 | F26: =IFERROR( IF($C26<=$F$9,E26-G26,""), "") -> 343.65872 | G26: =IFERROR( IF($C26<=$F$9,H25*J26/365*30.416,""), "") -> 1374.5713 | H26: =IFERROR( IF($C26<=$F$9,H25+G26-E26,""), "") -> 46799.002 | J26: =IF(C26<=$B$9,$F$11,$F$12) -> 0.3499 | T26: =IF($B28<=$F$9,B28,"") -> 7 | U26: =IF(T26>$F$9,"",1/(1+J28/12)) -> 0.97166779 | V26: =IF($T26>$F$9,"",PRODUCT($U$21:$U26)) -> 0.89138225
A27: =IF(H26>0.3,1,0) -> 1 | B27: 6 | C27: =IF(ISNUMBER(Maxamount), IF($B27<=$F$9,B27,""),"") -> 6 | D27: =IF(E27<>"", IF($C27<=$F$9,DATE(YEAR(D26),MONTH(D26)+1,DAY(D26)),""), "") -> 46493 | E27: =IFERROR( IF($C27<=$F$9,IF((H26+G27)>(Калькулятор!$W$21),ROUNDUP((Калькулятор!$W$21)*A27,2),(H26+G27)),""), "") -> 1718.23 | F27: =IFERROR( IF($C27<=$F$9,E27-G27,""), "") -> 353.67902 | G27: =IFERROR( IF($C27<=$F$9,H26*J27/365*30.416,""), "") -> 1364.551 | H27: =IFERROR( IF($C27<=$F$9,H26+G27-E27,""), "") -> 46445.323 | J27: =IF(C27<=$B$9,$F$11,$F$12) -> 0.3499 | T27: =IF($B29<=$F$9,B29,"") -> 8 | U27: =IF(T27>$F$9,"",1/(1+J29/12)) -> 0.97166779 | V27: =IF($T27>$F$9,"",PRODUCT($U$21:$U27)) -> 0.86612742
A28: =IF(H27>0.3,1,0) -> 1 | B28: 7 | C28: =IF(ISNUMBER(Maxamount), IF($B28<=$F$9,B28,""),"") -> 7 | D28: =IF(E28<>"", IF($C28<=$F$9,DATE(YEAR(D27),MONTH(D27)+1,DAY(D27)),""), "") -> 46523 | E28: =IFERROR( IF($C28<=$F$9,IF((H27+G28)>(Калькулятор!$W$21),ROUNDUP((Калькулятор!$W$21)*A28,2),(H27+G28)),""), "") -> 1718.23 | F28: =IFERROR( IF($C28<=$F$9,E28-G28,""), "") -> 363.99148 | G28: =IFERROR( IF($C28<=$F$9,H27*J28/365*30.416,""), "") -> 1354.2385 | H28: =IFERROR( IF($C28<=$F$9,H27+G28-E28,""), "") -> 46081.331 | J28: =IF(C28<=$B$9,$F$11,$F$12) -> 0.3499 | T28: =IF($B30<=$F$9,B30,"") -> 9 | U28: =IF(T28>$F$9,"",1/(1+J30/12)) -> 0.97166779 | V28: =IF($T28>$F$9,"",PRODUCT($U$21:$U28)) -> 0.84158811
A29: =IF(H28>0.3,1,0) -> 1 | B29: 8 | C29: =IF(ISNUMBER(Maxamount), IF($B29<=$F$9,B29,""),"") -> 8 | D29: =IF(E29<>"", IF($C29<=$F$9,DATE(YEAR(D28),MONTH(D28)+1,DAY(D28)),""), "") -> 46554 | E29: =IFERROR( IF($C29<=$F$9,IF((H28+G29)>(Калькулятор!$W$21),ROUNDUP((Калькулятор!$W$21)*A29,2),(H28+G29)),""), "") -> 1718.23 | F29: =IFERROR( IF($C29<=$F$9,E29-G29,""), "") -> 374.60463 | G29: =IFERROR( IF($C29<=$F$9,H28*J29/365*30.416,""), "") -> 1343.6254 | H29: =IFERROR( IF($C29<=$F$9,H28+G29-E29,""), "") -> 45706.727 | J29: =IF(C29<=$B$9,$F$11,$F$12) -> 0.3499 | T29: =IF($B31<=$F$9,B31,"") -> 10 | U29: =IF(T29>$F$9,"",1/(1+J31/12)) -> 0.97166779 | V29: =IF($T29>$F$9,"",PRODUCT($U$21:$U29)) -> 0.81774406
A30: =IF(H29>0.3,1,0) -> 1 | B30: 9 | C30: =IF(ISNUMBER(Maxamount), IF($B30<=$F$9,B30,""),"") -> 9 | D30: =IF(E30<>"", IF($C30<=$F$9,DATE(YEAR(D29),MONTH(D29)+1,DAY(D29)),""), "") -> 46584 | E30: =IFERROR( IF($C30<=$F$9,IF((H29+G30)>(Калькулятор!$W$21),ROUNDUP((Калькулятор!$W$21)*A30,2),(H29+G30)),""), "") -> 1718.23 | F30: =IFERROR( IF($C30<=$F$9,E30-G30,""), "") -> 385.52724 | G30: =IFERROR( IF($C30<=$F$9,H29*J30/365*30.416,""), "") -> 1332.7028 | H30: =IFERROR( IF($C30<=$F$9,H29+G30-E30,""), "") -> 45321.199 | J30: =IF(C30<=$B$9,$F$11,$F$12) -> 0.3499 | T30: =IF($B32<=$F$9,B32,"") -> 11 | U30: =IF(T30>$F$9,"",1/(1+J32/12)) -> 0.97166779 | V30: =IF($T30>$F$9,"",PRODUCT($U$21:$U30)) -> 0.79457556
A31: =IF(H30>0.3,1,0) -> 1 | B31: 10 | C31: =IF(ISNUMBER(Maxamount), IF($B31<=$F$9,B31,""),"") -> 10 | D31: =IF(E31<>"", IF($C31<=$F$9,DATE(YEAR(D30),MONTH(D30)+1,DAY(D30)),""), "") -> 46615 | E31: =IFERROR( IF($C31<=$F$9,IF((H30+G31)>(Калькулятор!$W$21),ROUNDUP((Калькулятор!$W$21)*A31,2),(H30+G31)),""), "") -> 1718.23 | F31: =IFERROR( IF($C31<=$F$9,E31-G31,""), "") -> 396.76833 | G31: =IFERROR( IF($C31<=$F$9,H30*J31/365*30.416,""), "") -> 1321.4617 | H31: =IFERROR( IF($C31<=$F$9,H30+G31-E31,""), "") -> 44924.431 | J31: =IF(C31<=$B$9,$F$11,$F$12) -> 0.3499 | T31: =IF($B33<=$F$9,B33,"") -> 12 | U31: =IF(T31>$F$9,"",1/(1+J33/12)) -> 0.97166779 | V31: =IF($T31>$F$9,"",PRODUCT($U$21:$U31)) -> 0.77206347
A32: =IF(H31>0.3,1,0) -> 1 | B32: 11 | C32: =IF(ISNUMBER(Maxamount), IF($B32<=$F$9,B32,""),"") -> 11 | D32: =IF(E32<>"", IF($C32<=$F$9,DATE(YEAR(D31),MONTH(D31)+1,DAY(D31)),""), "") -> 46646 | E32: =IFERROR( IF($C32<=$F$9,IF((H31+G32)>(Калькулятор!$W$21),ROUNDUP((Калькулятор!$W$21)*A32,2),(H31+G32)),""), "") -> 1718.23 | F32: =IFERROR( IF($C32<=$F$9,E32-G32,""), "") -> 408.33718 | G32: =IFERROR( IF($C32<=$F$9,H31*J32/365*30.416,""), "") -> 1309.8928 | H32: =IFERROR( IF($C32<=$F$9,H31+G32-E32,""), "") -> 44516.094 | J32: =IF(C32<=$B$9,$F$11,$F$12) -> 0.3499 | T32: =IF($B34<=$F$9,B34,"") -> 13 | U32: =IF(T32>$F$9,"",1/(1+J34/12)) -> 0.97166779 | V32: =IF($T32>$F$9,"",PRODUCT($U$21:$U32)) -> 0.75018921
A33: =IF(H32>0.3,1,0) -> 1 | B33: 12 | C33: =IF(ISNUMBER(Maxamount), IF($B33<=$F$9,B33,""),"") -> 12 | D33: =IF(E33<>"", IF($C33<=$F$9,DATE(YEAR(D32),MONTH(D32)+1,DAY(D32)),""), "") -> 46676 | E33: =IFERROR( IF($C33<=$F$9,IF((H32+G33)>(Калькулятор!$W$21),ROUNDUP((Калькулятор!$W$21)*A33,2),(H32+G33)),""), "") -> 1718.23 | F33: =IFERROR( IF($C33<=$F$9,E33-G33,""), "") -> 420.24335 | G33: =IFERROR( IF($C33<=$F$9,H32*J33/365*30.416,""), "") -> 1297.9867 | H33: =IFERROR( IF($C33<=$F$9,H32+G33-E33,""), "") -> 44095.851 | J33: =IF(C33<=$B$9,$F$11,$F$12) -> 0.3499 | T33: =IF($B35<=$F$9,B35,"") -> 14 | U33: =IF(T33>$F$9,"",1/(1+J35/12)) -> 0.97166779 | V33: =IF($T33>$F$9,"",PRODUCT($U$21:$U33)) -> 0.72893469
A34: =IF(H33>0.3,1,0) -> 1 | B34: 13 | C34: =IF(ISNUMBER(Maxamount), IF($B34<=$F$9,B34,""),"") -> 13 | D34: =IF(E34<>"", IF($C34<=$F$9,DATE(YEAR(D33),MONTH(D33)+1,DAY(D33)),""), "") -> 46707 | E34: =IFERROR( IF($C34<=$F$9,IF((H33+G34)>(Калькулятор!$W$21),ROUNDUP((Калькулятор!$W$21)*A34,2),(H33+G34)),""), "") -> 1718.23 | F34: =IFERROR( IF($C34<=$F$9,E34-G34,""), "") -> 432.49667 | G34: =IFERROR( IF($C34<=$F$9,H33*J34/365*30.416,""), "") -> 1285.7333 | H34: =IFERROR( IF($C34<=$F$9,H33+G34-E34,""), "") -> 43663.354 | J34: =IF(C34<=$B$9,$F$11,$F$12) -> 0.3499 | T34: =IF($B36<=$F$9,B36,"") -> 15 | U34: =IF(T34>$F$9,"",1/(1+J36/12)) -> 0.97166779 | V34: =IF($T34>$F$9,"",PRODUCT($U$21:$U34)) -> 0.70828235
... A81: =IF(H80>0.3,1,0) -> 1 | B81: 60 | C81: =IF(ISNUMBER(Maxamount), IF($B81<=$F$9,B81,""),"") -> 60 | D81: =IF(E81<>"", IF($C81<=$F$9,DATE(YEAR(D80),MONTH(D80)+1,DAY(D80)),""), "") -> 48137 | E81: =IFERROR( IF($C81<=$F$9,IF((H80+G81)>(Калькулятор!$W$21),ROUNDUP((Калькулятор!$W$21)*A81,2),(H80+G81)),""), "") -> 1713.6317 | F81: =IFERROR( IF($C81<=$F$9,E81-G81,""), "") -> 1665.0817 | G81: =IFERROR( IF($C81<=$F$9,H80*J81/365*30.416,""), "") -> 48.549944 | H81: =IFERROR( IF($C81<=$F$9,H80+G81-E81,""), "") -> 0 | J81: =IF(C81<=$B$9,$F$11,$F$12) -> 0.3499 | T81: =IF($B83<=$F$9,B83,"") -> 0 | U81: =IF(T81>$F$9,"",1/(1+J83/12)) -> 0.99999167 | V81: =IF($T81>$F$9,"",PRODUCT($U$21:$U81)) -> 0.19431235
J82: =IF(C82<=$B$9,$F$11,$F$12) -> 0.0001 | T82: =IF($B84<=$F$9,B84,"") -> 0 | U82: =IF(T82>$F$9,"",1/(1+J84/12)) -> 0.99999167 | V82: =IF($T82>$F$9,"",PRODUCT($U$21:$U82)) -> 0.19431073
J83: =IF(C83<=$B$9,$F$11,$F$12) -> 0.0001 | T83: =IF($B85<=$F$9,B85,"") -> 0 | U83: =IF(T83>$F$9,"",1/(1+J85/12)) -> 0.99999167 | V83: =IF($T83>$F$9,"",PRODUCT($U$21:$U83)) -> 0.19430911
J84: =IF(C84<=$B$9,$F$11,$F$12) -> 0.0001 | T84: =IF($B86<=$F$9,B86,"") -> 0 | U84: =IF(T84>$F$9,"",1/(1+J86/12)) -> 0.99999167 | V84: =IF($T84>$F$9,"",PRODUCT($U$21:$U84)) -> 0.19430749
J85: =IF(C85<=$B$9,$F$11,$F$12) -> 0.0001 | T85: =IF($B87<=$F$9,B87,"") -> 0 | U85: =IF(T85>$F$9,"",1/(1+J87/12)) -> 0.99999167 | V85: =IF($T85>$F$9,"",PRODUCT($U$21:$U85)) -> 0.19430588
J86: =IF(C86<=$B$9,$F$11,$F$12) -> 0.0001 | T86: =IF($B88<=$F$9,B88,"") -> 0 | U86: =IF(T86>$F$9,"",1/(1+J88/12)) -> 0.99999167 | V86: =IF($T86>$F$9,"",PRODUCT($U$21:$U86)) -> 0.19430426
J87: =IF(C87<=$B$9,$F$11,$F$12) -> 0.0001 | T87: =IF($B89<=$F$9,B89,"") -> 0 | U87: =IF(T87>$F$9,"",1/(1+J89/12)) -> 0.99999167 | V87: =IF($T87>$F$9,"",PRODUCT($U$21:$U87)) -> 0.19430264
J88: =IF(C88<=$B$9,$F$11,$F$12) -> 0.0001 | T88: =IF($B90<=$F$9,B90,"") -> 0 | U88: =IF(T88>$F$9,"",1/(1+J90/12)) -> 0.99999167 | V88: =IF($T88>$F$9,"",PRODUCT($U$21:$U88)) -> 0.19430102
J89: =IF(C89<=$B$9,$F$11,$F$12) -> 0.0001 | T89: =IF($B91<=$F$9,B91,"") -> 0 | U89: =IF(T89>$F$9,"",1/(1+J91/12)) -> 0.99999167 | V89: =IF($T89>$F$9,"",PRODUCT($U$21:$U89)) -> 0.1942994
J90: =IF(C90<=$B$9,$F$11,$F$12) -> 0.0001 | T90: =IF($B92<=$F$9,B92,"") -> 0 | U90: =IF(T90>$F$9,"",1/(1+J92/12)) -> 0.99999167 | V90: =IF($T90>$F$9,"",PRODUCT($U$21:$U90)) -> 0.19429778
J91: =IF(C91<=$B$9,$F$11,$F$12) -> 0.0001 | T91: =IF($B93<=$F$9,B93,"") -> 0 | U91: =IF(T91>$F$9,"",1/(1+J93/12)) -> 0.99999167 | V91: =IF($T91>$F$9,"",PRODUCT($U$21:$U91)) -> 0.19429616
J92: =IF(C92<=$B$9,$F$11,$F$12) -> 0.0001 | T92: =IF($B94<=$F$9,B94,"") -> 0 | U92: =IF(T92>$F$9,"",1/(1+J94/12)) -> 0.99999167 | V92: =IF($T92>$F$9,"",PRODUCT($U$21:$U92)) -> 0.19429454
J93: =IF(C93<=$B$9,$F$11,$F$12) -> 0.0001 | T93: =IF($B95<=$F$9,B95,"") -> 0 | U93: =IF(T93>$F$9,"",1/(1+J95/12)) -> 0.99999167 | V93: =IF($T93>$F$9,"",PRODUCT($U$21:$U93)) -> 0.19429292
... J103: =IF(C103<=$B$9,$F$11,$F$12) -> 0.0001 | T103: =IF($B105<=$F$9,B105,"") -> 0 | U103: =IF(T103>$F$9,"",1/(1+J105/12)) -> 0.99999167 | V103: =IF($T103>$F$9,"",PRODUCT($U$21:$U103)) -> 0.19427673
J104: =IF(C104<=$B$9,$F$11,$F$12) -> 0.0001
J105: =IF(C105<=$B$9,$F$11,$F$12) -> 0.0001

Sheet Продукти
A1: # | B1: Назва продукту | C1: Термін Grace, міс. | D1: Комісія в Grace | E1: Річна ставка в Grace, % | F1: Річна ставка | G1: Щоміс.комісія | H1: Разова комісія | I1: Мін.сума, грн | J1: Макс.сума, грн | K1: Ліміти | L1: Термін, мін | M1: Термін, макс | N1: Термін, міс | O1: Страх. Тариф Do not Use | P1: Мін.вік | Q1: Макс.вік | R1: Примітка | S1: Стаж роботи | T1: Мінімальний дохід, грн | U1: Product type | V1: Subtype | W1: =Maxamount -> 52630 | X1: XIRR | Y1: min | Z1: max
A2: 1 | B2: Beauty | C2: 0 | D2: 0 | E2: 0 | F2: 0.3499 | G2: 0 | H2: 0 | I2: 20000 | J2: 300000 | K2: =I2&" "&"-"&" "&J2 -> 20000 - 300000 | L2: 12 | M2: 60 | N2: =L2&" "&"-"&" "&M2 -> 12 - 60 | O2: 0 | P2: 23 | Q2: 69 | R2: ="вік "&P2&" - "&Q2&" (Для з/п клієнтів з 23 років, для інших - з 25)" -> вік 23 - 69 (Для з/п клієнтів з 23 років, для інших - з 25) | S2: ="6 міс. (для ФОП 24 міс)" -> 6 міс. (для ФОП 24 міс) | T2: =IF(Maxamount<=50000,6500,8000) -> 8000 | U2: big | V2: Standart | Y2: 0.409 | Z2: 0.4156
A3: 2 | B3: Універсальний Beauty | C3: 0 | D3: 0 | E3: 0 | F3: 0.1999 | G3: 0 | H3: 0.0099 | I3: 50000 | J3: 1250000 | K3: =I3&" "&"-"&" "&J3 -> 50000 - 1250000 | L3: 12 | M3: 60 | N3: =L3&" "&"-"&" "&M3 -> 12 - 60 | Y3: 0.2244 | Z3: 0.2444
A4: 3 | B4: Beauty 2M | C4: 2 | D4: 0 | E4: 0.0001 | F4: 0.3499 | G4: 0 | H4: 0.0299 | I4: 20000 | J4: 300000 | K4: =I4&" "&"-"&" "&J4 -> 20000 - 300000 | L4: 24 | M4: 60 | N4: =L4&" "&"-"&" "&M4 -> 24 - 60 | Y4: 0.3706 | Z4: 0.3921
A5: 4 | B5: Beauty 3M | C5: 3 | D5: 0 | E5: 0.0001 | F5: 0.3499 | G5: 0 | H5: 0.0526 | I5: 20000 | J5: 300000 | K5: =I5&" "&"-"&" "&J5 -> 20000 - 300000 | L5: 60 | M5: 60 | N5: =L5&" "&"-"&" "&M5 -> 60 - 60 | Y5: 0.38675842 | Z5: 0.3883903
A6: 5 | B6: Beauty 5M | C6: 5 | D6: 0 | E6: 0.0001 | F6: 0.3499 | G6: 0 | H6: 0.087 | I6: 20000 | J6: 300000 | K6: =I6&" "&"-"&" "&J6 -> 20000 - 300000 | L6: 60 | M6: 60 | N6: =L6&" "&"-"&" "&M6 -> 60 - 60 | Y6: 0.35335185 | Z6: 0.36542459
A7: 6 | B7: Beauty 6M | C7: 6 | D7: 0 | E7: 0.0001 | F7: 0.3499 | G7: 0 | H7: 0.1111 | I7: 20000 | J7: 300000 | K7: =I7&" "&"-"&" "&J7 -> 20000 - 300000 | L7: 60 | M7: 60 | N7: =L7&" "&"-"&" "&M7 -> 60 - 60 | Y7: 0.37131351 | Z7: 0.37285443
A8: 7 | B8: Beauty 9M | C8: 9 | D8: 0 | E8: 0.0001 | F8: 0.3499 | G8: 0 | H8: 0.1765 | I8: 20000 | J8: 300000 | K8: =I8&" "&"-"&" "&J8 -> 20000 - 300000 | L8: 60 | M8: 60 | N8: =L8&" "&"-"&" "&M8 -> 60 - 60 | Y8: 0.36319541 | Z8: 0.36468945
A9: 8 | B9: Beauty 10M | C9: 10 | D9: 0 | E9: 0.0001 | F9: 0.3499 | G9: 0 | H9: 0.25 | I9: 20000 | J9: 300000 | K9: =I9&" "&"-"&" "&J9 -> 20000 - 300000 | L9: 60 | M9: 60 | N9: =L9&" "&"-"&" "&M9 -> 60 - 60 | Y9: 0.39144794 | Z9: 0.3931079
A10: 9 | B10: Beauty 12M | C10: 12 | D10: 0 | E10: 0.0001 | F10: 0.3499 | G10: 0 | H10: 0.3333 | I10: 20000 | J10: 300000 | K10: =I10&" "&"-"&" "&J10 -> 20000 - 300000 | L10: 60 | M10: 60 | N10: =L10&" "&"-"&" "&M10 -> 60 - 60 | Y10: 0.40890903 | Z10: 0.41067542
B11: =Калькулятор!F7 -> Beauty 3M | C11: =VLOOKUP($B$11,$B$2:$V$10,COLUMN()-1,0) -> 3 | D11: =VLOOKUP($B$11,$B$2:$V$10,COLUMN()-1,0) -> 0 | E11: =VLOOKUP($B$11,$B$2:$V$10,COLUMN()-1,0) -> 0.0001 | F11: =VLOOKUP($B$11,$B$2:$V$10,COLUMN()-1,0) -> 0.3499 | G11: =VLOOKUP($B$11,$B$2:$V$10,COLUMN()-1,0) -> 0 | H11: =VLOOKUP($B$11,$B$2:$V$10,COLUMN()-1,0) -> 0.0526 | I11: =VLOOKUP($B$11,$B$2:$V$10,COLUMN()-1,0) -> 20000 | J11: =VLOOKUP($B$11,$B$2:$V$10,COLUMN()-1,0) -> 300000 | ... N11: =VLOOKUP($B$11,$B$2:$V$10,COLUMN()-1,0) -> 60 - 60 | P11: =VLOOKUP($B$11,$B$2:$V$2,COLUMN()-1,0) -> #N/A | Q11: =VLOOKUP($B$11,$B$2:$V$2,COLUMN()-1,0) -> #N/A | R11: =VLOOKUP($B$11,$B$2:$V$2,COLUMN()-1,0) -> #N/A | S11: =VLOOKUP($B$11,$B$2:$V$2,COLUMN()-1,0) -> #N/A | T11: =VLOOKUP($B$11,$B$2:$V$2,COLUMN()-1,0) -> #N/A | U11: =VLOOKUP($B$11,$B$2:$V$2,COLUMN()-1,0) -> #N/A | V11: =VLOOKUP($B$11,$B$2:$V$2,COLUMN()-1,0) -> #N/A
